BEGIN:VCALENDAR
VERSION:2.0
PRODID:-//Berkeley Graduate Division - ECPv6.15.20//NONSGML v1.0//EN
CALSCALE:GREGORIAN
METHOD:PUBLISH
X-WR-CALNAME:Berkeley Graduate Division
X-ORIGINAL-URL:https://grad.berkeley.edu
X-WR-CALDESC:Events for Berkeley Graduate Division
REFRESH-INTERVAL;VALUE=DURATION:PT1H
X-Robots-Tag:noindex
X-PUBLISHED-TTL:PT1H
BEGIN:VTIMEZONE
TZID:America/Los_Angeles
BEGIN:DAYLIGHT
TZOFFSETFROM:-0800
TZOFFSETTO:-0700
TZNAME:PDT
DTSTART:20200308T100000
END:DAYLIGHT
BEGIN:STANDARD
TZOFFSETFROM:-0700
TZOFFSETTO:-0800
TZNAME:PST
DTSTART:20201101T090000
END:STANDARD
BEGIN:DAYLIGHT
TZOFFSETFROM:-0800
TZOFFSETTO:-0700
TZNAME:PDT
DTSTART:20210314T100000
END:DAYLIGHT
BEGIN:STANDARD
TZOFFSETFROM:-0700
TZOFFSETTO:-0800
TZNAME:PST
DTSTART:20211107T090000
END:STANDARD
BEGIN:DAYLIGHT
TZOFFSETFROM:-0800
TZOFFSETTO:-0700
TZNAME:PDT
DTSTART:20220313T100000
END:DAYLIGHT
BEGIN:STANDARD
TZOFFSETFROM:-0700
TZOFFSETTO:-0800
TZNAME:PST
DTSTART:20221106T090000
END:STANDARD
END:VTIMEZONE
BEGIN:VEVENT
DTSTART;TZID=America/Los_Angeles:20210616T173000
DTEND;TZID=America/Los_Angeles:20210616T183000
DTSTAMP:20260420T231801
CREATED:20210609T193807Z
LAST-MODIFIED:20211119T174757Z
UID:33352-1623864600-1623868200@grad.berkeley.edu
SUMMARY:BPA Language Exchange
DESCRIPTION:Whether you want to practice a new language or just speak in your native language\, this event is for you! We will meet on zoom with a general meeting room and break out rooms for different languages. \nThe rules are simple: \n​1. Have fun! \n2. Practice your beloved language with native speakers and language lovers \n3. Don’t be afraid to make mistakes \n4. Meet new people and get to know their cultures \n  \nRegister for BPA Language Exchange here.
URL:https://grad.berkeley.edu/event/bpa-language-exchange/
LOCATION:Online via Zoom
CATEGORIES:Professional Development Events
ORGANIZER;CN="Berkeley Postdoctoral Association":MAILTO:lkaplan9@berkeley.edu
END:VEVENT
END:VCALENDAR